BEGIN:VCALENDAR
VERSION:2.0
PRODID:-//NSRP - ECPv6.15.18//NONSGML v1.0//EN
CALSCALE:GREGORIAN
METHOD:PUBLISH
X-WR-CALNAME:NSRP
X-ORIGINAL-URL:https://www.nsrp.org
X-WR-CALDESC:Events for NSRP
REFRESH-INTERVAL;VALUE=DURATION:PT1H
X-Robots-Tag:noindex
X-PUBLISHED-TTL:PT1H
BEGIN:VTIMEZONE
TZID:America/New_York
BEGIN:DAYLIGHT
TZOFFSETFROM:-0500
TZOFFSETTO:-0400
TZNAME:EDT
DTSTART:20250309T070000
END:DAYLIGHT
BEGIN:STANDARD
TZOFFSETFROM:-0400
TZOFFSETTO:-0500
TZNAME:EST
DTSTART:20251102T060000
END:STANDARD
BEGIN:DAYLIGHT
TZOFFSETFROM:-0500
TZOFFSETTO:-0400
TZNAME:EDT
DTSTART:20260308T070000
END:DAYLIGHT
BEGIN:STANDARD
TZOFFSETFROM:-0400
TZOFFSETTO:-0500
TZNAME:EST
DTSTART:20261101T060000
END:STANDARD
BEGIN:DAYLIGHT
TZOFFSETFROM:-0500
TZOFFSETTO:-0400
TZNAME:EDT
DTSTART:20270314T070000
END:DAYLIGHT
BEGIN:STANDARD
TZOFFSETFROM:-0400
TZOFFSETTO:-0500
TZNAME:EST
DTSTART:20271107T060000
END:STANDARD
END:VTIMEZONE
BEGIN:VTIMEZONE
TZID:America/Denver
BEGIN:DAYLIGHT
TZOFFSETFROM:-0700
TZOFFSETTO:-0600
TZNAME:MDT
DTSTART:20250309T090000
END:DAYLIGHT
BEGIN:STANDARD
TZOFFSETFROM:-0600
TZOFFSETTO:-0700
TZNAME:MST
DTSTART:20251102T080000
END:STANDARD
BEGIN:DAYLIGHT
TZOFFSETFROM:-0700
TZOFFSETTO:-0600
TZNAME:MDT
DTSTART:20260308T090000
END:DAYLIGHT
BEGIN:STANDARD
TZOFFSETFROM:-0600
TZOFFSETTO:-0700
TZNAME:MST
DTSTART:20261101T080000
END:STANDARD
BEGIN:DAYLIGHT
TZOFFSETFROM:-0700
TZOFFSETTO:-0600
TZNAME:MDT
DTSTART:20270314T090000
END:DAYLIGHT
BEGIN:STANDARD
TZOFFSETFROM:-0600
TZOFFSETTO:-0700
TZNAME:MST
DTSTART:20271107T080000
END:STANDARD
END:VTIMEZONE
BEGIN:VEVENT
DTSTART;VALUE=DATE:20260505
DTEND;VALUE=DATE:20260507
DTSTAMP:20260421T094456
CREATED:20260302T175405Z
LAST-MODIFIED:20260416T182127Z
UID:10000399-1777939200-1778111999@www.nsrp.org
SUMMARY:Electrical Technologies and Ship Design & Material Technologies Joint Panel Meeting - San Antonio\, TX
DESCRIPTION:Please mark your calendars for 5-6 May for the Electrical Technologies and Ship Design & Material Technologies joint panel meeting in San Antonio\, TX! The meeting will include discussions on new and emerging technologies\, updates on NSRP Panel and RA projects\, as well as a tour of the Southwest Research Institute (SwRI) labs. \nAgenda \nTo register to attend either in-person or virtually register here. \nFull link: https://web.cvent.com/event/6b82a094-6194-4341-8ce0-60fbcb50014f/summary \n*Registration for in-person will close on COB 28 April and all attendees must have a valid proof of identification when arriving on campus.* \nWe look forward to seeing you all there!
URL:https://www.nsrp.org/event/electrical-technologies-and-ship-design-material-technologies-joint-panel-meeting-san-antonio-tx/
CATEGORIES:NSRP Event
END:VEVENT
BEGIN:VEVENT
DTSTART;VALUE=DATE:20260512
DTEND;VALUE=DATE:20260514
DTSTAMP:20260421T094456
CREATED:20260330T192650Z
LAST-MODIFIED:20260330T192927Z
UID:10000400-1778544000-1778716799@www.nsrp.org
SUMMARY:Welding Technology Panel Meeting
DESCRIPTION:Please mark your calendars for 12-13 May for the Welding Technology Panel Meeting in Houston\, TX! The meeting will include a tour of the Stress Aerospace and Defense labs\, live testing of an additively manufactured part\, and presentations. More information and an agenda to follow! \nPlease register here to attend either in-person or virtually. \nFull Link: https://web.cvent.com/event/b5ac5b41-8903-4661-a238-a15a9e1e2794/summary \nWe look forward to seeing you all there!
URL:https://www.nsrp.org/event/welding-technology-panel-meeting/
LOCATION:Stress Aerospace and Defense\, 13800 Westfair East\, Houston\, TX\, 77041
CATEGORIES:NSRP Event
END:VEVENT
BEGIN:VEVENT
DTSTART;TZID=America/Denver:20260602T080000
DTEND;TZID=America/Denver:20260602T120000
DTSTAMP:20260421T094456
CREATED:20260416T182547Z
LAST-MODIFIED:20260416T182547Z
UID:10000401-1780387200-1780401600@www.nsrp.org
SUMMARY:Surface Preparation & Coatings Panel Meeting at MegaRust
DESCRIPTION:The NSRP Surface Preparation & Coatings panel will meet on Tuesday 6/2 from 8am-12pm PT at MegaRust in San Diego\, CA.  Admission for the panel meeting is free and separate from the MegaRust conference registration. \nTo attend in-person or virtually please register here. \nFull link: Home – https://web.cvent.com/event/e55af355-6678-4266-bfdd-4db4dbecaf1a/summary \nThis meeting will include an opportunity to pitch new project ideas for the upcoming FY27 Panel Project Solicitation. NSRP meetings are open to the public\, therefore all content must be at public distribution level. \nWe look forward to seeing you all there!
URL:https://www.nsrp.org/event/surface-preparation-coatings-panel-meeting-at-megarust-2/
CATEGORIES:NSRP Event
END:VEVENT
END:VCALENDAR